Workbook
Name __xlnm._FilterDatabase_1: #REF!

Sheet 2026
B1: Nascar Challenge 2026 | G1: Best finish tie breaker will be primary drivers finish | M1: Nascar Challenge 2026 | R1: Best finish tie breaker will be primary drivers finish
G3: Score is best combined finish | R3: Score is best combined finish
B4: Primary Driver _______________________ | D4: ELLIOTT | G4: Cannot Duplicate 2nd driver throughout season | M4: Primary Driver _______________________ | O4: HAMLIN | R4: Cannot Duplicate 2nd driver throughout season
C5: Leon Rodriguez | D5: DTR 9 | N5: Leon Rodriguez | O5: DTR 11
B6: No# | C6: Drivers | D6: Track | E6: Race # | F6: Name | G6: Car # | I6: Primary Car | J6: 2nd Car Finish | K6: Avg Finish | M6: No# | N6: Drivers | O6: Track | P6: Race # | Q6: Name | R6: Car # | T6: Primary Car | U6: 2nd Car Finish | V6: Avg Finish
B7: 1 | D7: Daytona | E7: Winner | F7: Busch | G7: 8 | I7: 4 | J7: 15 | K7: =(J7+I7)*0.5 -> 9.5 | M7: 1 | N7: Ross Chastain | O7: Daytona | P7: 1 | Q7: Logano | R7: 22 | T7: 31 | U7: 3 | V7: =(U7+T7)*0.5 -> 17
B8: 2 | C8: Austin Cindric | D8: Atlanta | E8: 2 | F8: Logano | G8: 22 | I8: 11 | J8: 18 | K8: =(J8+I8)*0.5 -> 14.5 | M8: 2 | N8: Austin Cindric | O8: Atlanta | P8: 2 | Q8: Keselowski | R8: 6 | T8: 13 | U8: 17 | V8: =(U8+T8)*0.5 -> 15
B9: 3 | C9: Austin Dillon | D9: COTA | E9: 3 | F9: McDowell | G9: 71 | I9: 7 | J9: 5 | K9: =(J9+I9)*0.5 -> 6 | M9: 3 | N9: Austin Dillon | O9: COTA | P9: 3 | Q9: SVG | R9: 97 | T9: 10 | U9: 2 | V9: =(U9+T9)*0.5 -> 6
B10: 4 | C10: Noah Gragson | D10: Phoenix | E10: 4 | F10: Chastain | G10: 1 | I10: 23 | J10: 28 | K10: =(J10+I10)*0.5 -> 25.5 | M10: 4 | N10: Noah Gragson | O10: Phoenix | P10: 4 | Q10: Elliott | R10: 9 | T10: 5 | U10: 23 | V10: =(U10+T10)*0.5 -> 14
B11: 5 | C11: Kyle Larson | D11: Las Vegas | E11: 5 | F11: Berry | G11: 21 | I11: 2 | J11: 31 | K11: =(J11+I11)*0.5 -> 16.5 | M11: 5 | N11: Kyle Larson | O11: Las Vegas | P11: Winner | Q11: Bell | R11: 20 | T11: 1 | U11: 4 | V11: =(U11+T11)*0.5 -> 2.5
B12: 6 | D12: Darlington | E12: 6 | F12: Wallace | G12: 23 | I12: 15 | J12: 34 | K12: =(J12+I12)*0.5 -> 24.5 | M12: 6 | O12: Darlington | P12: 6 | Q12: Double Bell | T12: 11 | U12: 19 | V12: =(U12+T12)*0.5 -> 15
B13: 7 | C13: Daniel Suarez | D13: Martinsville | E13: 7 | F13: Kes | G13: 6 | I13: 1 | J13: 13 | K13: =(J13+I13)*0.5 -> 7 | M13: 7 | N13: Daniel Suarez | O13: Martinsville | P13: 7 | Q13: Wallace | R13: 23 | T13: 2 | U13: 36 | V13: =(U13+T13)*0.5 -> 19
B14: 8 | D14: Bristol | E14: 8 | K14: =(J14+I14)*0.5 -> 0 | M14: 8 | N14: Kyle Busch | O14: Bristol | P14: 8 | V14: =(U14+T14)*0.5 -> 0
B15: 9 | D15: Kansas | E15: 9 | K15: =(J15+I15)*0.5 -> 0 | M15: 9 | O15: Kansas | P15: 9 | V15: =(U15+T15)*0.5 -> 0
B16: 10 | C16: Ty Dillon | D16: Talladega | E16: 10 | K16: =(J16+I16)*0.5 -> 0 | M16: 10 | N16: Ty Dillon | O16: Talladega | P16: 10 | V16: =(U16+T16)*0.5 -> 0
B17: 11 | C17: Denny Hamlin | D17: Texas | E17: 11 | K17: =(J17+I17)*0.5 -> 0 | M17: 11 | O17: Texas | P17: 11 | V17: =(U17+T17)*0.5 -> 0
B18: 12 | C18: Ryan Blaney | D18: Watkins Glen | E18: 12 | K18: =(J18+I18)*0.5 -> 0 | M18: 12 | N18: Ryan Blaney | O18: Watkins Glen | P18: 12 | V18: =(U18+T18)*0.5 -> 0
B19: 16 | C19: AJ Allmendinger | D19: Charlotte | E19: 13 | K19: =(J19+I19)*0.5 -> 0 | M19: 16 | N19: AJ Allmendinger | O19: Charlotte | P19: 13 | V19: =(U19+T19)*0.5 -> 0
B20: 17 | C20: Chris Buescher | D20: Nashville | E20: 14 | K20: =(J20+I20)*0.5 -> 0 | M20: 17 | N20: Chris Buescher | O20: Nashville | P20: 14 | V20: =(U20+T20)*0.5 -> 0
B21: 19 | C21: Chase Briscoe | D21: Michigan | E21: 15 | K21: =(J21+I21)*0.5 -> 0 | M21: 19 | N21: Chase Briscoe | O21: Michigan | P21: 15 | V21: =(U21+T21)*0.5 -> 0
B22: 20 | C22: Christopher Bell | D22: Pocono | E22: 16 | K22: =(J22+I22)*0.5 -> 0 | M22: 20 | O22: Pocono | P22: 16 | V22: =(U22+T22)*0.5 -> 0
B23: 21 | D23: San Diego | E23: 17 | K23: =(J23+I23)*0.5 -> 0 | M23: 21 | N23: Josh Berry | O23: San Diego | P23: 17 | V23: =(U23+T23)*0.5 -> 0
B24: 22 | D24: Sonoma | E24: 18 | K24: =(J24+I24)*0.5 -> 0 | M24: 22 | O24: Sonoma | P24: 18 | V24: =(U24+T24)*0.5 -> 0
B25: 23 | D25: Chicago | E25: 19 | K25: =(J25+I25)*0.5 -> 0 | M25: 23 | O25: Chicago | P25: 19 | V25: =(U25+T25)*0.5 -> 0
B26: 24 | C26: William Byron | D26: Atlanta | E26: 20 | K26: =(J26+I26)*0.5 -> 0 | M26: 24 | N26: William Byron | O26: Atlanta | P26: 20 | V26: =(U26+T26)*0.5 -> 0
B27: 34 | C27: Todd Gilliland | D27: Wilkesboro | E27: 21 | K27: =(J27+I27)*0.5 -> 0 | M27: 34 | N27: Todd Gilliland | O27: Wilkesboro | P27: 21 | V27: =(U27+T27)*0.5 -> 0
B28: 35 | C28: Riley Herbst | D28: Indianapolis | E28: 22 | K28: =(J28+I28)*0.5 -> 0 | M28: 35 | N28: Riley Herbst | O28: Indianapolis | P28: 22 | V28: =(U28+T28)*0.5 -> 0
B29: 38 | C29: Zane Smith | D29: Iowa | E29: 23 | K29: =(J29+I29)*0.5 -> 0 | M29: 38 | N29: Zane Smith | O29: Iowa | P29: 23 | V29: =(U29+T29)*0.5 -> 0
B30: 41 | C30: Cole Custer | D30: Richmond | E30: 24 | K30: =(J30+I30)*0.5 -> 0 | M30: 41 | N30: Cole Custer | O30: Richmond | P30: 24 | V30: =(U30+T30)*0.5 -> 0
B31: 42 | C31: John Nemechek | D31: New Hampshire | E31: 25 | K31: =(J31+I31)*0.5 -> 0 | M31: 42 | N31: John Nemechek | O31: New Hampshire | P31: 25 | V31: =(U31+T31)*0.5 -> 0
B32: 43 | C32: Erik Jones | D32: Daytona | E32: 26 | K32: =(J32+I32)*0.5 -> 0 | M32: 43 | N32: Erik Jones | O32: Daytona | P32: 26 | V32: =(U32+T32)*0.5 -> 0
B33: 45 | C33: Tyler Reddick | D33: Darlington | E33: 27 | K33: =(J33+I33)*0.5 -> 0 | M33: 45 | N33: Tyler Reddick | O33: Darlington | P33: 27 | V33: =(U33+T33)*0.5 -> 0
B34: 47 | C34: Rickey Stenhouse | D34: WWT | E34: 28 | K34: =(J34+I34)*0.5 -> 0 | M34: 47 | N34: Rickey Stenhouse | O34: WWT | P34: 28 | V34: =(U34+T34)*0.5 -> 0
B35: 48 | C35: Alex Bowman | D35: Bristol | E35: 29 | K35: =(J35+I35)*0.5 -> 0 | M35: 48 | N35: Alex Bowman | O35: Bristol | P35: 29 | V35: =(U35+T35)*0.5 -> 0
B36: 51 | C36: Cody Ware | D36: Kansas | E36: 30 | K36: =(J36+I36)*0.5 -> 0 | M36: 51 | N36: Cody Ware | O36: Kansas | P36: 30 | V36: =(U36+T36)*0.5 -> 0
B37: 54 | C37: Ty Gibbs | D37: Las Vegas | E37: 31 | K37: =(J37+I37)*0.5 -> 0 | M37: 54 | N37: Ty Gibbs | O37: Las Vegas | P37: 31 | V37: =(U37+T37)*0.5 -> 0
B38: 60 | C38: Ryan Preece | D38: Charlotte | E38: 32 | K38: =(J38+I38)*0.5 -> 0 | M38: 60 | N38: Ryan Preece | O38: Charlotte | P38: 32 | V38: =(U38+T38)*0.5 -> 0
B39: 71 | D39: Phoenix | E39: 33 | K39: =(J39+I39)*0.5 -> 0 | M39: 71 | N39: Michael McDowell | O39: Phoenix | P39: 33 | V39: =(U39+T39)*0.5 -> 0
B40: 77 | C40: Carson Hocevar | D40: Talladega | E40: 34 | K40: =(J40+I40)*0.5 -> 0 | M40: 77 | N40: Carson Hocevar | O40: Talladega | P40: 34 | V40: =(U40+T40)*0.5 -> 0
B41: 84 | C41: Jimmie Johnson | D41: Martinsville | E41: 35 | K41: =(J41+I41)*0.5 -> 0 | M41: 84 | N41: Jimmie Johnson | O41: Martinsville | P41: 35 | V41: =(U41+T41)*0.5 -> 0
B42: 88 | C42: Connor Zilisch | D42: Homestead | E42: 36 | K42: =(J42+I42)*0.5 -> 0 | M42: 88 | N42: Connor Zilisch | O42: Homestead | P42: 36 | V42: =(U42+T42)*0.5 -> 0
B43: 97 | C43: S V G | M43: 97
F49: Primary Driver Average | H49: =AVERAGE(I7:I42) -> 9 | J49: AVG FINISH | K49: =AVERAGE(H49:H50) -> 14.785714 | Q49: Primary Driver Average | S49: =AVERAGE(T7:T42) -> 10.428571 | U49: AVG FINISH | V49: =AVERAGE(S49:S50) -> 12.642857
F50: Secondary Driver Average | H50: =AVERAGE(J7:J42) -> 20.571429 | Q50: Secondary Driver Average | S50: =AVERAGE(U7:U42) -> 14.857143
B52: Nascar Challenge 2026 | G52: Best finish tie breaker will be primary drivers finish | M52: Nascar Challenge 2026 | R52: Best finish tie breaker will be primary drivers finish
G54: Score is best combined finish | R54: Score is best combined finish
B55: Primary Driver _______________________ | D55: BYRON | G55: Cannot Duplicate 2nd driver throughout season | M55: Primary Driver _______________________ | O55: Briscoe | R55: Cannot Duplicate 2nd driver throughout season
C56: Leon Rodriguez | D56: DTR24 | N56: Dave Brady | O56: NascarMan19
B57: No# | C57: Drivers | D57: Track | E57: Race # | F57: Name | G57: Car # | I57: Primary Car | J57: 2nd Car Finish | K57: Avg Finish | M57: No# | N57: Drivers | O57: Track | P57: Race # | Q57: Name | R57: Car # | T57: Primary Car | U57: 2nd Car Finish | V57: Avg Finish
B58: 1 | C58: Ross Chastain | D58: Daytona | E58: 1 | F58: McDowell | G58: 71 | I58: 12 | J58: 22 | K58: =(J58+I58)*0.5 -> 17 | M58: 1 | N58: Ross Chastain | O58: Daytona | P58: 1 | Q58: Nemecheck | R58: 42 | T58: 36 | U58: 26 | V58: =(U58+T58)*0.5 -> 31
B59: 2 | C59: Austin Cindric | D59: Atlanta | E59: 2 | F59: Suarez | G59: 7 | I59: 28 | J59: 5 | K59: =(J59+I59)*0.5 -> 16.5 | M59: 2 | N59: Austin Cindric | O59: Atlanta | P59: Winner | Q59: Wallace | R59: 23 | T59: 2 | U59: 8 | V59: =(U59+T59)*0.5 -> 5
B60: 3 | C60: Austin Dillon | D60: COTA | E60: 3 | F60: Allmendinger | G60: 16 | I60: 13 | J60: 9 | K60: =(J60+I60)*0.5 -> 11 | M60: 3 | N60: Austin Dillon | O60: COTA | P60: 3 | Q60: SVG | R60: 97 | T60: 37 | U60: 2 | V60: =(U60+T60)*0.5 -> 19.5
B61: 4 | C61: Noah Gragson | D61: Phoenix | E61: 4 | F61: Kes | G61: 6 | I61: 7 | J61: 15 | K61: =(J61+I61)*0.5 -> 11 | M61: 4 | N61: Noah Gragson | O61: Phoenix | P61: 4 | Q61: Berry | R61: 21 | T61: 37 | U61: 32 | V61: =(U61+T61)*0.5 -> 34.5
B62: 5 | C62: Kyle Larson | D62: Las Vegas | E62: 5 | F62: Preece | G62: 60 | I62: 3 | J62: 11 | K62: =(J62+I62)*0.5 -> 7 | M62: 5 | N62: Kyle Larson | O62: Las Vegas | P62: 5 | Q62: Reddick | R62: 45 | T62: 8 | U62: 13 | V62: =(U62+T62)*0.5 -> 10.5
B63: 6 | D63: Darlington | E63: 6 | F63: Bell | G63: 20 | I63: 8 | J63: 19 | K63: =(J63+I63)*0.5 -> 13.5 | M63: 6 | N63: Brad Keselowski | O63: Darlington | P63: 6 | Q63: Buescher | R63: 17 | T63: 12 | U63: 9 | V63: =(U63+T63)*0.5 -> 10.5
B64: 7 | D64: Martinsville | E64: 7 | F64: Berry | G64: 21 | I64: 5 | J64: 10 | K64: =(J64+I64)*0.5 -> 7.5 | M64: 7 | N64: Daniel Suarez | O64: Martinsville | P64: 7 | Q64: Gilliland | R64: 34 | T64: 14 | U64: 23 | V64: =(U64+T64)*0.5 -> 18.5
B65: 8 | C65: Kyle Busch | D65: Bristol | E65: 8 | K65: =(J65+I65)*0.5 -> 0 | M65: 8 | N65: Kyle Busch | O65: Bristol | P65: 8 | V65: =(U65+T65)*0.5 -> 0
B66: 9 | C66: Chase Elliott | D66: Kansas | E66: 9 | K66: =(J66+I66)*0.5 -> 0 | M66: 9 | N66: Chase Elliott | O66: Kansas | P66: 9 | V66: =(U66+T66)*0.5 -> 0
B67: 10 | C67: Ty Dillon | D67: Talladega | E67: 10 | K67: =(J67+I67)*0.5 -> 0 | M67: 10 | N67: Ty Dillon | O67: Talladega | P67: 10 | V67: =(U67+T67)*0.5 -> 0
B68: 11 | C68: Denny Hamlin | D68: Texas | E68: 11 | K68: =(J68+I68)*0.5 -> 0 | M68: 11 | N68: Denny Hamlin | O68: Texas | P68: 11 | V68: =(U68+T68)*0.5 -> 0
B69: 12 | C69: Ryan Blaney | D69: Watkins Glen | E69: 12 | K69: =(J69+I69)*0.5 -> 0 | M69: 12 | N69: Ryan Blaney | O69: Watkins Glen | P69: 12 | V69: =(U69+T69)*0.5 -> 0
B70: 16 | D70: Charlotte | E70: 13 | K70: =(J70+I70)*0.5 -> 0 | M70: 16 | N70: AJ Allmendinger | O70: Charlotte | P70: 13 | V70: =(U70+T70)*0.5 -> 0
B71: 17 | C71: Chris Buescher | D71: Nashville | E71: 14 | K71: =(J71+I71)*0.5 -> 0 | M71: 17 | O71: Nashville | P71: 14 | V71: =(U71+T71)*0.5 -> 0
B72: 19 | C72: Chase Briscoe | D72: Michigan | E72: 15 | K72: =(J72+I72)*0.5 -> 0 | M72: 19 | O72: Michigan | P72: 15 | V72: =(U72+T72)*0.5 -> 0
B73: 20 | D73: Pocono | E73: 16 | K73: =(J73+I73)*0.5 -> 0 | M73: 20 | N73: Christopher Bell | O73: Pocono | P73: 16 | V73: =(U73+T73)*0.5 -> 0
B74: 21 | D74: San Diego | E74: 17 | K74: =(J74+I74)*0.5 -> 0 | M74: 21 | O74: San Diego | P74: 17 | V74: =(U74+T74)*0.5 -> 0
B75: 22 | C75: Joey Logano | D75: Sonoma | E75: 18 | K75: =(J75+I75)*0.5 -> 0 | M75: 22 | N75: Joey Logano | O75: Sonoma | P75: 18 | V75: =(U75+T75)*0.5 -> 0
B76: 23 | C76: Bubba Wallace | D76: Chicago | E76: 19 | K76: =(J76+I76)*0.5 -> 0 | M76: 23 | O76: Chicago | P76: 19 | V76: =(U76+T76)*0.5 -> 0
B77: 24 | D77: Atlanta | E77: 20 | K77: =(J77+I77)*0.5 -> 0 | M77: 24 | N77: William Byron | O77: Atlanta | P77: 20 | V77: =(U77+T77)*0.5 -> 0
B78: 34 | C78: Todd Gilliland | D78: Wilkesboro | E78: 21 | K78: =(J78+I78)*0.5 -> 0 | M78: 34 | O78: Wilkesboro | P78: 21 | V78: =(U78+T78)*0.5 -> 0
B79: 35 | C79: Riley Herbst | D79: Indianapolis | E79: 22 | K79: =(J79+I79)*0.5 -> 0 | M79: 35 | N79: Riley Herbst | O79: Indianapolis | P79: 22 | V79: =(U79+T79)*0.5 -> 0
B80: 38 | C80: Zane Smith | D80: Iowa | E80: 23 | K80: =(J80+I80)*0.5 -> 0 | M80: 38 | N80: Zane Smith | O80: Iowa | P80: 23 | V80: =(U80+T80)*0.5 -> 0
B81: 41 | C81: Cole Custer | D81: Richmond | E81: 24 | K81: =(J81+I81)*0.5 -> 0 | M81: 41 | N81: Cole Custer | O81: Richmond | P81: 24 | V81: =(U81+T81)*0.5 -> 0
B82: 42 | C82: John Nemechek | D82: New Hampshire | E82: 25 | K82: =(J82+I82)*0.5 -> 0 | M82: 42 | O82: New Hampshire | P82: 25 | V82: =(U82+T82)*0.5 -> 0
B83: 43 | C83: Erik Jones | D83: Daytona | E83: 26 | K83: =(J83+I83)*0.5 -> 0 | M83: 43 | N83: Erik Jones | O83: Daytona | P83: 26 | V83: =(U83+T83)*0.5 -> 0
B84: 45 | C84: Tyler Reddick | D84: Darlington | E84: 27 | K84: =(J84+I84)*0.5 -> 0 | M84: 45 | O84: Darlington | P84: 27 | V84: =(U84+T84)*0.5 -> 0
B85: 47 | C85: Rickey Stenhouse | D85: WWT | E85: 28 | K85: =(J85+I85)*0.5 -> 0 | M85: 47 | N85: Rickey Stenhouse | O85: WWT | P85: 28 | V85: =(U85+T85)*0.5 -> 0
B86: 48 | C86: Alex Bowman | D86: Bristol | E86: 29 | K86: =(J86+I86)*0.5 -> 0 | M86: 48 | N86: Alex Bowman | O86: Bristol | P86: 29 | V86: =(U86+T86)*0.5 -> 0
B87: 51 | C87: Cody Ware | D87: Kansas | E87: 30 | K87: =(J87+I87)*0.5 -> 0 | M87: 51 | N87: Cody Ware | O87: Kansas | P87: 30 | V87: =(U87+T87)*0.5 -> 0
B88: 54 | C88: Ty Gibbs | D88: Las Vegas | E88: 31 | K88: =(J88+I88)*0.5 -> 0 | M88: 54 | N88: Ty Gibbs | O88: Las Vegas | P88: 31 | V88: =(U88+T88)*0.5 -> 0
B89: 60 | D89: Charlotte | E89: 32 | K89: =(J89+I89)*0.5 -> 0 | M89: 60 | N89: Ryan Preece | O89: Charlotte | P89: 32 | V89: =(U89+T89)*0.5 -> 0
B90: 71 | D90: Phoenix | E90: 33 | K90: =(J90+I90)*0.5 -> 0 | M90: 71 | N90: Michael McDowell | O90: Phoenix | P90: 33 | V90: =(U90+T90)*0.5 -> 0
B91: 77 | C91: Carson Hocevar | D91: Talladega | E91: 34 | K91: =(J91+I91)*0.5 -> 0 | M91: 77 | N91: Carson Hocevar | O91: Talladega | P91: 34 | V91: =(U91+T91)*0.5 -> 0
B92: 84 | C92: Jimmie Johnson | D92: Martinsville | E92: 35 | K92: =(J92+I92)*0.5 -> 0 | M92: 84 | N92: Jimmie Johnson | O92: Martinsville | P92: 35 | V92: =(U92+T92)*0.5 -> 0
B93: 88 | C93: Connor Zilisch | D93: Homestead | E93: 36 | K93: =(J93+I93)*0.5 -> 0 | M93: 88 | N93: Connor Zilisch | O93: Homestead | P93: 36 | V93: =(U93+T93)*0.5 -> 0
B94: 97 | C94: S V G | M94: 97
F100: Primary Driver Average | H100: =AVERAGE(I58:I93) -> 10.857143 | J100: AVG FINISH | K100: =AVERAGE(H100:H101) -> 11.928571 | Q100: Primary Driver Average | S100: =AVERAGE(T58:T93) -> 20.857143 | U100: AVG FINISH | V100: =AVERAGE(S100:S101) -> 18.5
F101: Secondary Driver Average | H101: =AVERAGE(J58:J93) -> 13 | Q101: Secondary Driver Average | S101: =AVERAGE(U58:U93) -> 16.142857
B103: Nascar Challenge 2026 | G103: Best finish tie breaker will be primary drivers finish | M103: Nascar Challenge 2026 | R103: Best finish tie breaker will be primary drivers finish
G105: Score is best combined finish | R105: Score is best combined finish
B106: Primary Driver _______________________ | D106: HAMLIN | G106: Cannot Duplicate 2nd driver throughout season | M106: Primary Driver _______________________ | O106: BLANEY | R106: Cannot Duplicate 2nd driver throughout season
C107: Dave Brady | D107: NascarMan11 | N107: Dave Brady | O107: NascarMan12
B108: No# | C108: Drivers | D108: Track | E108: Race # | F108: Name | G108: Car # | I108: Primary Car | J108: 2nd Car Finish | K108: Avg Finish | M108: No# | N108: Drivers | O108: Track | P108: Race # | Q108: Name | R108: Car # | T108: Primary Car | U108: 2nd Car Finish | V108: Avg Finish
B109: 1 | D109: Daytona | E109: 1 | F109: Hocevar | G109: 77 | I109: 31 | J109: 18 | K109: =(J109+I109)*0.5 -> 24.5 | M109: 1 | N109: Ross Chastain | O109: Daytona | P109: 1 | Q109: Busch | R109: 8 | T109: 27 | U109: 15 | V109: =(U109+T109)*0.5 -> 21
B110: 2 | C110: Austin Cindric | D110: Atlanta | E110: 2 | F110: Stenhouse | G110: 47 | I110: 13 | J110: 36 | K110: =(J110+I110)*0.5 -> 24.5 | M110: 2 | N110: Austin Cindric | O110: Atlanta | P110: 2 | Q110: Logano | R110: 22 | T110: 10 | U110: 18 | V110: =(U110+T110)*0.5 -> 14
B111: 3 | C111: Austin Dillon | D111: COTA | E111: 3 | F111: Chastain | G111: 1 | I111: 10 | J111: 35 | K111: =(J111+I111)*0.5 -> 22.5 | M111: 3 | N111: Austin Dillon | O111: COTA | P111: 3 | Q111: Allmendinger | R111: 16 | T111: 8 | U111: 9 | V111: =(U111+T111)*0.5 -> 8.5
B112: 4 | C112: Noah Gragson | D112: Phoenix | E112: 4 | F112: Bell | G112: 20 | I112: 5 | J112: 2 | K112: =(J112+I112)*0.5 -> 3.5 | M112: 4 | N112: Noah Gragson | O112: Phoenix | P112: 4 | Q112: Byron | R112: 24 | T112: 1 | U112: 7 | V112: =(U112+T112)*0.5 -> 4
B113: 5 | C113: Kyle Larson | D113: Las Vegas | E113: 5 | F113: Allgeier | G113: 48 | I113: 1 | J113: 25 | K113: =(J113+I113)*0.5 -> 13 | M113: 5 | N113: Kyle Larson | O113: Las Vegas | P113: 5 | Q113: Suarez | R113: 7 | T113: 16 | U113: 18 | V113: =(U113+T113)*0.5 -> 17
B114: 6 | C114: Brad Keselowski | D114: Darlington | E114: 6 | F114: Byron | G114: 24 | I114: 11 | J114: 8 | K114: =(J114+I114)*0.5 -> 9.5 | M114: 6 | N114: Brad Keselowski | O114: Darlington | P114: 6 | Q114: Allgaier | T114: 3 | U114: 24 | V114: =(U114+T114)*0.5 -> 13.5
B115: 7 | C115: Daniel Suarez | D115: Martinsville | E115: 7 | F115: Preece | G115: 30 | I115: 2 | J115: 12 | K115: =(J115+I115)*0.5 -> 7 | M115: 7 | O115: Martinsville | P115: 7 | Q115: Berry | R115: 21 | T115: 6 | U115: 10 | V115: =(U115+T115)*0.5 -> 8
...

Sheet Overall Standings
A3: Name | B3: Primary Driver Average | C3: Primary | D3: New Primary Driver Average | E3: Secondary Driver Average | F3: New Secondary Driver Average | G3: AVG FINISH | H3: New AVG FINISH | I3: WINS | J3: PAY-OUT | K3: Cost | L3: Due / Owe Winnings | M3: Champ | N3: Total | O3: FINAL PAYOUTS | Q3: Drivers
A4: DreamTeamRacing 9 -- CE | B4: ='2026'!H49 -> 9 | C4: 9 | E4: ='2026'!H50 -> 20.571429 | G4: ='2026'!K49 -> 14.785714 | I4: 1 | J4: =I4*250 -> 250 | K4: 500 | L4: =K4-J4 -> 250 | M4: 0 | N4: =M4+J4 -> 250
A5: DreamTeamRacing 11 -- DH | B5: ='2026'!S49 -> 10.428571 | C5: 9 | E5: ='2026'!S50 -> 14.857143 | G5: ='2026'!V49 -> 12.642857 | I5: 1 | J5: =I5*250 -> 250 | K5: 500 | L5: =K5-J5 -> 250 | M5: 0 | N5: =M5+J5 -> 250
A6: DreamTeamRacing 24 -- WB | B6: ='2026'!H100 -> 10.857143 | C6: 29 | E6: ='2026'!H101 -> 13 | G6: ='2026'!K100 -> 11.928571 | J6: =I6*250 -> 0 | K6: 500 | L6: =K6-J6 -> 500 | M6: 0 | N6: =M6+J6 -> 0
A7: NascarMan 19 -- CB | B7: ='2026'!S100 -> 20.857143 | C7: 9 | E7: ='2026'!S101 -> 16.142857 | G7: ='2026'!V100 -> 18.5 | I7: 1 | J7: =I7*250 -> 250 | K7: 500 | L7: =K7-J7 -> 250 | M7: 0 | N7: =M7+J7 -> 250
A8: NascarMan 11 - DH | B8: ='2026'!H151 -> 10.428571 | C8: 5 | E8: ='2026'!H152 -> 19.428571 | G8: ='2026'!K151 -> 14.928571 | J8: =I8*250 -> 0 | K8: 500 | L8: =K8-J8 -> 500 | M8: 0 | N8: =M8+J8 -> 0
A9: NascarMan 12 -- RB | B9: ='2026'!S151 -> 10.142857 | C9: 13 | E9: ='2026'!S152 -> 14.428571 | G9: ='2026'!V151 -> 12.285714 | J9: =I9*250 -> 0 | K9: 500 | L9: =K9-J9 -> 500 | M9: 0 | N9: =M9+J9 -> 0
A10: AgentTimo 12 -- RB | B10: ='2026'!H202 -> 10.142857 | E10: ='2026'!H203 -> 18.857143 | G10: ='2026'!K202 -> 14.5 | I10: 1 | J10: =I10*250 -> 250 | K10: 500 | L10: =K10-J10 -> 250 | M10: 0 | N10: =M10+J10 -> 250
A11: AgentTimo 5 -- KL | B11: ='2026'!S202 -> 15 | C11: 9 | E11: ='2026'!S203 -> 20 | G11: ='2026'!V202 -> 17.5 | J11: =I11*250 -> 0 | K11: 500 | L11: =K11-J11 -> 500 | M11: 0 | N11: =M11+J11 -> 0
A12: AgentTimo 24 -- WB | B12: ='2026'!H253 -> 10.857143 | C12: 9 | E12: ='2026'!H254 -> 17.571429 | G12: ='2026'!K253 -> 14.214286 | J12: =I12*250 -> 0 | K12: 500 | L12: =K12-J12 -> 500 | M12: 0 | N12: =M12+J12 -> 0
A13: Kstone 88 - CZ | B13: ='2026'!S253 -> 26 | E13: ='2026'!S254 -> 20.428571 | G13: ='2026'!V253 -> 23.214286 | J13: =I13*250 -> 0 | K13: 500 | L13: =K13-J13 -> 500 | M13: 0 | N13: =M13+J13 -> 0
A14: Mactag 9 - CE | B14: ='2026'!H304 -> 9 | E14: ='2026'!S254 -> 20.428571 | G14: ='2026'!K304 -> 13.357143 | J14: =I14*250 -> 0 | K14: 500 | L14: =K14-J14 -> 500 | M14: 0 | N14: =M14+J14 -> 0
A15: Mactag 12 - RB | B15: ='2026'!S304 -> 10.142857 | E15: ='2026'!S305 -> 8.5714286 | G15: ='2026'!V304 -> 9.3571429 | I15: 1 | J15: =I15*250 -> 250 | K15: 500 | L15: =K15-J15 -> 250 | M15: 0 | N15: =M15+J15 -> 250
A16: Mactag 97 - SV | B16: ='2026'!H355 -> 15.714286 | E16: ='2026'!H356 -> 20.714286 | G16: ='2026'!K355 -> 18.214286 | I16: 1 | J16: =I16*250 -> 250 | K16: 500 | L16: =K16-J16 -> 250 | M16: 0 | N16: =M16+J16 -> 250
A17: HTBB - Logano - 22 | B17: ='2026'!S355 -> 16.857143 | E17: ='2026'!S356 -> 13.714286 | G17: ='2026'!V355 -> 15.285714 | J17: =I17*250 -> 0 | K17: 500 | L17: =K17-J17 -> 500 | M17: 0 | N17: =M17+J17 -> 0
A18: Hendrick 9 - CE | B18: ='2026'!H406 -> 9 | E18: ='2026'!H407 -> 13.857143 | G18: ='2026'!K406 -> 11.428571 | I18: 1 | J18: =I18*250 -> 250 | K18: 500 | L18: =K18-J18 -> 250 | M18: 0 | N18: =M18+J18 -> 250
A19: Austin - 20 CB | B19: ='2026'!S406 -> 13 | E19: ='2026'!S407 -> 9.5714286 | G19: ='2026'!V406 -> 11.285714 | J19: =I19*250 -> 0 | K19: 500 | L19: =K19-J19 -> 500 | M19: 0 | N19: =M19+J19 -> 0
A20: PPLGA - 5 KL | B20: ='2026'!H457 -> 15 | E20: ='2026'!H458 -> 27.285714 | G20: ='2026'!K457 -> 21.142857 | J20: =I20*250 -> 0 | K20: 500 | L20: =K20-J20 -> 500 | M20: 0 | N20: =M20+J20 -> 0
B25: Tentative payouts
B26: $250 per race win | E26: 8750 | I26: =SUM(I4:I25) -> 7 | J26: =SUM(J4:J25) -> 1750 | K26: =SUM(K4:K25) -> 8500 | L26: =SUM(L4:L24) -> 6750 | M26: =SUM(M4:M24) -> 0 | N26: =SUM(N4:N24) -> 1750 | O26: =SUM(O4:O24) -> 0 | P26: =SUM(P4:P24) -> 0 | Q26: =SUM(Q4:Q25) -> 0 | R26: =SUM(R4:R25) -> 0
B27: 1st Place - $160 | E27: 100
B28: 2nd Place - $100 | E28: 50
B29: Website | E29: 100
E30: =SUM(E26:E29) -> 9000
